Workbook
Name Required: #REF!

Sheet Cover page
B31: Instrucions for completion:
B32: Please answer each question Yes /No
B33: A graph will automatically be generated evideing compliance
B34: No answers are areas for development / improvement

Sheet Assurance tool
B1: * Abuse can be physical, sexual, mental or psychological, financial, neglect, institutional or discriminatory abuse
B2: SAFE
B3: Safe means people are protected from abuse* and avoidable harm
G4: Yes / No | H4: Evidence / Comments
B5: S3 | C5: Are there reliable systems, processes and practices in place to keep people safe and safeguarded from abuse? | D5: Required | E5: a | F5: Does the practice have a Mental Capacity Policy in place? | G5: NO
D6: Required | E6: b | F6: Does the policy outline how people who cannot consent will be identified? | G6: NO
D7: Required | E7: c | F7: Does the MCA policy outline when and how a capacity assessment should take place? | G7: NO
D8: Required | E8: d | F8: Does the MCA policy explain best interests? | G8: NO
D9: Required | E9: e | F9: Is the MCA policy referenced in other relevant policies? | G9: NO
D10: Required | E10: f | F10: Does the practice have a Safeguarding Policy? | G10: NO
D11: Required | E11: g | F11: Does the Safeguarding policy outline how to refer concerns? | G11: NO
D12: Required | E12: h | F12: Does the practice has a named SG lead and a deputy SG lead with delegated responsibility to act in the lead’s absence? | G12: NO
D13: Required | E13: i | F13: Practice has systems in place to manage and review risks to children, young people & vulnerable adults? | G13: NO
D14: Required | E14: j | F14: Is there evidence that MCA is linked into practice systems and processes? | G14: NO
D15: Required | E15: k | F15: Does the practice have systems in place to highlight vulnerable patients in electronic medical records, e.g. patients with a learning disability, mental health, dementia, housebound patients, homeless, self neglect, etc. so staff are aware of relevant issues when these patients attend the surgery for an appointment | G15: NO
D16: Desirable | E16: l | F16: Is there evidence that the practice has regular external meetings with Community Nursing, Palliative Care nurses, etc. and MCA concerns cases are discussed | G16: NO
D17: Required | E17: m | F17: Multi-disciplinary (MDT) meetings with district nurses, health visitors, locality integrated care-coordinator and palliative care nurses to discuss the care plans of complex needs patients | G17: NO
B18: S4 | C18: How are risks to individual people who use services assessed, and their safety monitored and maintained? | D18: Required | E18: a | F18: Do staff identify and respond to changing risks to people who use services, including deteriorating health and wellbeing or medical emergencies? | G18: NO
D19: Desirable | E19: b | F19: Are staff able to seek support from senior staff in these situations? | G19: NO
D20: Required | E20: c | F20: Are there procedures in place to check and record information on Lasting Power of Attorney (LPA) and Advanced decision (AD) making? | G20: NO
D21: Desirable | E21: d | F21: Does the practice have guidance in place if there is concern that decisions are not being made in the best interest of the vulnerable person? | G21: NO
D22: Required | E22: e | F22: Do staff understand how to escalate concerns re LPA and AD? | G22: NO
B23: EFFECTIVE
B24: By effective, we mean that people’s care, treatment and support achieves good outcomes, promotes a good quality of life and is based on best available practice
B25: E1 | C25: Are people’s needs assessed and care and treatment delivered, in line with current legislation, standards and evidence-based guidance? | D25: Required | E25: a | F25: Is there written evidence of MCA-compliant capacity assessments? | G25: NO
D26: Desirable | E26: b | F26: Is a Best Interest decision making checklist in place to use? | G26: NO
D27: Required | E27: c | F27: Is there written evidence of Best Interests decision-making? | G27: NO
D28: Required | E28: d | F28: Does the Best Interest decision process include patient statements concerning their wishes for their care and treatment? | G28: NO
B29: E3 | C29: Do staff have the skills, knowledge and experience to deliver effective care and treatment? | D29: Required | E29: a | F29: Have all staff that visit patients completed Deprivation of Liberty Safeguards (DoLs), training | G29: NO
D30: Required | E30: b | F30: Practice maintains up to date Safeguarding / MCA / DoLs training records for all clinicians & staff, showing that identified staff have received the appropriate level of training for their respective roles. | G30: NO
D31: Desirable | E31: c | F31: Is there a MCA Code of Practice available for staff to easily access if guidance is required? | G31: NO
D32: Desirable | E32: d | F32: Are there arrangements for supporting and managing staff to deliver effective care and treatment? (This includes ongoing support during sessions, one-to-one meetings, appraisals, coaching and mentoring, clinical supervision, and facilitation and support for the revalidation of doctors and Nurses.) | G32: NO
D33: Desirable | E33: e | F33: Do job descriptions refer to Safeguarding and MCA for those staff working directly with patients? | G33: NO
B34: E4 | C34: How well do staff and services work together to deliver effective care and treatment? | D34: Desirable | E34: a | F34: Is there evidence of how care is delivered in a coordinated way when different services are involved, including between daytime GP practices and GP out-of-hours care and with NHS 111 services? | G34: NO
B35: E5 | C35: Do staff have all the information they need to deliver effective care and treatment to people who use services? | D35: Required | E35: a | F35: Do all staff with patient contact know what an Independent Mental Capacity Advocate (IMCA) is? | G35: NO
D36: Required | E36: b | F36: Do all staff with patient contact know when it is appropriate for a patient to have access to an IMCA? | G36: NO
B37: E6 | C37: Is people’s consent to care and treatment always sought in line with legislation and guidance? | D37: Required | E37: a | F37: Is there a practice policy for documenting patient consent? | G37: NO
D38: Required | E38: b | F38: Are people supported to make decisions? | G38: NO
D39: Required | E39: c | F39: Do staff know how to refer to an Independent Mental Capacity Advocate (IMCA) | G39: NO
D40: Required | E40: d | F40: Is there evidence of how and when a person’s mental capacity to consent to care or treatment is assessed and, where appropriate, recorded? | G40: NO
D41: Required | E41: e | F41: Does the practice know which of their patients are subject to a Deprivation of Liberty (DoLs) | G41: NO
B42: CARING
B43: By caring, it means that staff involve and treat people with compassion, kindness, dignity and respect.
B44: C2 | C44: Are people who use services and those close to them routinely involved in planning and making decisions about their care and treatment? | D44: Required | E44: a | F44: Is there evidence that staff recognise when people who use services and those close to them need additional support to help them understand or be involved in their care and treatment, and enable them to access this? (This includes language interpreters, signers, specialist advice or advocates.) | G44: NO
D45: Desirable | E45: b | F45: Is there documented evidence that people who use services and those close to them are given support to find further information or ask questions about their care and treatment? | G45: NO
B46: RESPONSIVE
B47: By responsive, it means that services are organised so that they meet people’s needs.
B48: R1 | C48: Are services planned and delivered to meet the needs of people? | D48: Required | E48: a | F48: Is there evidence that patients with a learning disability, dementia and complex needs are supported to make decisions about their care through the use of care plans. | G48: NO
D49: Desirable | E49: b | F49: Where people’s needs are not being met, is this identified and used to inform how services are planned and developed? | G49: NO
B50: R2 | C50: Do services take account of the needs of different people, including those in vulnerable circumstances? | D50: Desirable | E50: a | F50: Is there evidence that vulnerable patients are prioritised for an appointment? | G50: NO
D51: Desirable | E51: b | F51: Are the extended appointment slots available? | G51: NO
B53: WELL LED
B54: Well-led means that the leadership, management and governance of the Practice assures the delivery of high quality person-centred care, supports learning and innovation, and promotes an open and fair culture.
B55: W2 | C55: Do the governance arrangements ensure that responsibilities are clear and that quality, performance and risks are identified, understood and managed? | D55: Required | E55: a | F55: Are staff clear about their roles and do they understand what they are accountable for in relation to Safeguarding and MCA? | G55: NO
D56: Required | E56: b | F56: Is there a systematic programme of clinical and internal audit, which is used to monitor quality and systems to identify where action should be taken? | G56: NO
D57: Desirable | E57: c | F57: Does the practice audit compliance with the Mental Capacity Act? | G57: NO
D58: Desirable | E58: d | F58: Does the practice collect IMCA referral data? | G58: NO
D59: Required | E59: e | F59: Are all clinical staff kept up to date with relevant case law? | G59: NO
D60: Required | E60: f | F60: Is there a Named Safeguarding lead and Named Clinical Governance lead in the practice? | G60: NO
B61: W3 | C61: How does the leadership and culture reflect the vision and values, encourage openness and transparency and promote good quality care? | D61: Required | E61: a | F61: There is a clear leadership structure and designated Safeguarding responsibility. | G61: NO
D62: Required | E62: b | F62: SG lead ensures all staff are appropriately trained for their role and are aware of all relevant legislation. | G62: NO
D63: Required | E63: c | F63: Does the culture encourage candour, openness and honesty, with regular meetings and a culture of challenge and debate? | G63: NO
D64: Required | E64: d | F64: Do staff know how to raise concerns about their organisation? | G64: NO
B65: Summary
B66: Domain | C66: ID | D66: % Required Completed
B67: SAFE | C67: S3 | D67: =Workings!G15 -> 0
C68: S4 | D68: =Workings!G20 -> 0
B69: EFFECTIVE | C69: E1 | D69: =Workings!G25 -> 0
C70: E3 | D70: =Workings!G30 -> 0
C71: E4 | D71: Not Required
C72: E5 | D72: =Workings!G33 -> 0
C73: E6 | D73: =Workings!G38 -> 0
B74: CARING | C74: C2 | D74: =Workings!G41 -> 0
B75: RESPONSIVE | C75: R1 | D75: =Workings!G44 -> 0
C76: R2 | D76: Not Required
B77: WELL LED | C77: W2 | D77: =Workings!G53 -> 0
C78: W3 | D78: =Workings!G57 -> 0
B79: OVERALL | D79: =Workings!G60 -> 0

Sheet Evidence 
B1: CQC Domain | C1: ID | D1: KLOE | E1: Ref | F1: Examples of evidence required | G1: YES / NO
B2: SAFE | C2: 3 | D2: Are there reliable systems, processes and practices in place to keep people safe and safeguarded from abuse? | E2: a | F2: Copy of MCA policy | G2: ='Assurance tool'!G5 -> NO
E3: b | F3: Copy of MCA policy | G3: ='Assurance tool'!G6 -> NO
E4: c | F4: Copy of MCA policy | G4: ='Assurance tool'!G7 -> NO
E5: d | F5: Copy of MCA policy | G5: ='Assurance tool'!G8 -> NO
E6: e | F6: Other polices such as Consent, DNARCPR, Chaperone, etc. | G6: ='Assurance tool'!G9 -> NO
E7: f | F7: Safeguarding policy | G7: ='Assurance tool'!G10 -> NO
E8: g | F8: Safeguarding referral details in policy (and may be in other relevant areas such as clinical rooms) | G8: ='Assurance tool'!G11 -> NO
E9: h | F9: Names of leads in Safeguarding policy and staff are able to identify who they are on discussion. | G9: ='Assurance tool'!G12 -> NO
E10: i | F10: Vulnerable people registers, regular practice and MDT meetings in the practice. Safeguarding / MCA as agenda item on these agendas for these meetings. Evidence of actions required on minutes. | G10: ='Assurance tool'!G13 -> NO
E11: j | F11: Protocols in place; READ codes used; MCA / Best interest templates available for use; records evidence discussions. | G11: ='Assurance tool'!G14 -> NO
E12: k | F12: Patient alert system used to highlight risks; relevant registers in place such as Dementia / LD | G12: ='Assurance tool'!G15 -> NO
E13: l | F13: Copies of minutes. MCA and Safeguarding as agenda items. Actions required documented | G13: ='Assurance tool'!G16 -> NO
E14: m | F14: Copies of minutes. MCA and Safeguarding as agenda items. Actions required documented | G14: ='Assurance tool'!G17 -> NO
C15: 4 | D15: How are risks to individual people who use services assessed, and their safety monitored and maintained? | E15: a | F15: Use list sent re admissions to follow up patients who go into a&e when surgery open. Have other alert systems to prompt 6 monthly / yearly reviews. Surgery know who is an inpatient. | G15: ='Assurance tool'!G18 -> NO
E16: b | F16: Staff can give examples of seeking support from senior staff if a patient presents unwell. Alert systems in place on patient record system to call for help | G16: ='Assurance tool'!G19 -> NO
E17: c | F17: Protocol in place; original LPA seen and scanned into system - info added to patient alert system so that staff are aware. Documented if Finance or Health and Welfare. Protocol for Advanced decisions - original seen and scanned into system - info added to patient alert system so that staff are aware. Question on new patient questionnaire to trigger staff to ask. | G17: ='Assurance tool'!G20 -> NO
E18: d | F18: Safeguarding / MCA policy - info re Office of the Public Guardian | G18: ='Assurance tool'!G21 -> NO
E19: e | F19: Safeguarding / MCA policy - info re Office of the Public Guardian | G19: ='Assurance tool'!G22 -> NO
B20: EFFECTIVE | C20: 1 | D20: Are people’s needs assessed and care and treatment delivered, in line with current legislation, standards and evidence-based guidance? | E20: a | F20: Records include MCA assessments using templates | G20: ='Assurance tool'!G25 -> NO
E21: b | F21: Best interest checklist in place. | G21: ='Assurance tool'!G26 -> NO
E22: c | F22: Staff able to provide examples of best interest decision making, who discussed with and rationale for decision. Review medical records | G22: ='Assurance tool'!G27 -> NO
E23: d | F23: Reference to patient wishes documented as above; | G23: ='Assurance tool'!G28 -> NO
C24: 3 | D24: Do staff have the skills, knowledge and experience to deliver effective care and treatment? | E24: a | F24: Copy of training register with staff attendance at training | G24: ='Assurance tool'!G29 -> NO
E25: b | F25: Copy of training register with staff attendance at training | G25: ='Assurance tool'!G30 -> NO
E26: c | F26: Copy of MCA code of practice available for staff to access or links to document available | G26: ='Assurance tool'!G31 -> NO
E27: d | F27: Records of one to one; clinical supervision; appraisals; revalidation records | G27: ='Assurance tool'!G32 -> NO
E28: e | F28: Job descriptions have safeguarding / MCA responsibilities added to JD where possible; Added to staff handbook / part of staff induction programme. | G28: ='Assurance tool'!G33 -> NO
C29: 4 | D29: How well do staff and services work together to deliver effective care and treatment? | E29: a | F29: Patient care plans/ shared care systems | G29: ='Assurance tool'!G34 -> NO
C30: 5 | D30: Do staff have all the information they need to deliver effective care and treatment to people who use services? | E30: a | F30: Discussion with staff / identified in MCA policy | G30: ='Assurance tool'!G35 -> NO
E31: b | F31: Discussion with staff / identified in MCA policy | G31: ='Assurance tool'!G36 -> NO
C32: 6 | D32: Is people’s consent to care and treatment always sought in line with legislation and guidance? | E32: a | F32: Consent policy; consent forms; READ codes used | G32: ='Assurance tool'!G37 -> NO
E33: b | F33: Documented evidence of leaflets including easy read; use of interpreter / advocates, etc. | G33: ='Assurance tool'!G38 -> NO
E34: c | F34: IMCA referral details in MCA policy / discussion with staff | G34: ='Assurance tool'!G39 -> NO
E35: d | F35: MCA policy / discussion with staff / patient record / use of READ code | G35: ='Assurance tool'!G40 -> NO
E36: e | F36: Practice has a register of patient subject to a DoLs authorisation. Info added to patient alert system. | G36: ='Assurance tool'!G41 -> NO
B37: CARING | C37: 2 | D37: Are people who use services and those close to them routinely involved in planning and making decisions about their care and treatment? | E37: a | F37: Staff are able to provide examples; referral data to specialist services. | G37: ='Assurance tool'!G44 -> NO
E38: b | F38: Documented evidence of leaflets including easy read; use of interpreter / advocates, etc. NB: try and automatically complete form Q E6 / b | G38: ='Assurance tool'!G45 -> NO
B39: RESPONSIVE | C39: 1 | D39: Are services planned and delivered to meet the needs of people? | E39: a | F39: All patients with these diagnosis have a care plan in place; use of LD healthcare passport / This is me documentation. | G39: ='Assurance tool'!G48 -> NO
E40: b | F40: Examples provided by staff. E.g. employing counsellor / specialist rooms / late appointments | G40: ='Assurance tool'!G49 -> NO
C41: 2 | D41: Do services take account of the needs of different people, including those in vulnerable circumstances? | E41: a | F41: Triggers are on patient records to highlight vulnerable patients and support required, including Advocate, easy read information, LPA, etc. | G41: ='Assurance tool'!G50 -> NO
E42: b | F42: Extended appointments available | G42: ='Assurance tool'!G51 -> NO
B43: WELL LED | C43: 2 | D43: Do the governance arrangements ensure that responsibilities are clear and that quality, performance and risks are identified, understood and managed? | E43: a | F43: Job descriptions; on discussion staff are able to say. | G43: ='Assurance tool'!G55 -> NO
E44: b | F44: Evidence of clinical audit programme planned and completed | G44: ='Assurance tool'!G56 -> NO
E45: c | F45: MCA audit | G45: ='Assurance tool'!G57 -> NO
E46: d | F46: List of IMCA referral data | G46: ='Assurance tool'!G58 -> NO
E47: e | F47: Attendance at relevant Practice Learning Time events. Shared at Practice meeting - documented in minutes | G47: ='Assurance tool'!G59 -> NO
E48: f | F48: Name of Leads in policy; staff on discussion are able to tell you | G48: ='Assurance tool'!G60 -> NO
C49: 3 | D49: How does the leadership and culture reflect the vision and values, encourage openness and transparency and promote good quality care? | E49: a | F49: Practice staff structure | G49: ='Assurance tool'!G61 -> NO
E50: b | F50: SG roles and responsibilities outlined in JD | G50: ='Assurance tool'!G62 -> NO
E51: c | F51: Minutes of meetings; discussion with staff | G51: ='Assurance tool'!G63 -> NO
E52: d | F52: Whistleblowing policy in place/ incident process | G52: ='Assurance tool'!G64 -> NO

Sheet Data set up 1
A2: YES | B2: Required
A3: NO | B3: Desirable
B4: NA

Sheet Workings
C2: SAFE
A3: ='Assurance tool'!D5 -> Required | B3: 1 | C3: 3 | D3: ='Evidence '!E2 -> a | E3: =IF('Evidence '!G2="YES",1,0) -> 0
A4: ='Assurance tool'!D6 -> Required | B4: 2 | C4: 3 | D4: ='Evidence '!E3 -> b | E4: =IF('Evidence '!G3="YES",1,0) -> 0
A5: ='Assurance tool'!D7 -> Required | B5: 3 | C5: 3 | D5: ='Evidence '!E4 -> c | E5: =IF('Evidence '!G4="YES",1,0) -> 0
A6: ='Assurance tool'!D8 -> Required | B6: 4 | C6: 3 | D6: ='Evidence '!E5 -> d | E6: =IF('Evidence '!G5="YES",1,0) -> 0
A7: ='Assurance tool'!D9 -> Required | B7: 5 | C7: 3 | D7: ='Evidence '!E6 -> e | E7: =IF('Evidence '!G6="YES",1,0) -> 0
A8: ='Assurance tool'!D10 -> Required | B8: 6 | C8: 3 | D8: ='Evidence '!E7 -> f | E8: =IF('Evidence '!G7="YES",1,0) -> 0
A9: ='Assurance tool'!D11 -> Required | B9: 7 | C9: 3 | D9: ='Evidence '!E8 -> g | E9: =IF('Evidence '!G8="YES",1,0) -> 0
A10: ='Assurance tool'!D12 -> Required | B10: 8 | C10: 3 | D10: ='Evidence '!E9 -> h | E10: =IF('Evidence '!G9="YES",1,0) -> 0
A11: ='Assurance tool'!D13 -> Required | B11: 9 | C11: 3 | D11: ='Evidence '!E10 -> i | E11: =IF('Evidence '!G10="YES",1,0) -> 0
A12: ='Assurance tool'!D14 -> Required | B12: 10 | C12: 3 | D12: ='Evidence '!E11 -> j | E12: =IF('Evidence '!G11="YES",1,0) -> 0
A13: ='Assurance tool'!D15 -> Required | B13: 11 | C13: 3 | D13: ='Evidence '!E12 -> k | E13: =IF('Evidence '!G12="YES",1,0) -> 0
A14: ='Assurance tool'!D16 -> Desirable | C14: 3 | D14: ='Evidence '!E13 -> l
A15: ='Assurance tool'!D17 -> Required | B15: 12 | C15: 3 | D15: ='Evidence '!E14 -> m | E15: =IF('Evidence '!G14="YES",1,0) -> 0 | F15: =SUM(E3:E15) -> 0 | G15: =F15/B15*100 -> 0
A16: ='Assurance tool'!D18 -> Required | B16: 1 | C16: 4 | D16: ='Evidence '!E15 -> a | E16: =IF('Evidence '!G15="YES",1,0) -> 0
A17: ='Assurance tool'!D19 -> Desirable | C17: 4 | D17: ='Evidence '!E16 -> b
A18: ='Assurance tool'!D20 -> Required | B18: 2 | C18: 4 | D18: ='Evidence '!E17 -> c | E18: =IF('Evidence '!G17="YES",1,0) -> 0
A19: ='Assurance tool'!D21 -> Desirable | C19: 4 | D19: ='Evidence '!E18 -> d
A20: ='Assurance tool'!D22 -> Required | B20: 3 | C20: 4 | D20: ='Evidence '!E19 -> e | E20: =IF('Evidence '!G19="YES",1,0) -> 0 | F20: =SUM(E16:E20) -> 0 | G20: =F20/B20*100 -> 0
C21: EFFECTIVE
A22: ='Assurance tool'!D25 -> Required | B22: 1 | C22: 1 | D22: ='Assurance tool'!E25 -> a | E22: =IF('Evidence '!G20="YES",1,0) -> 0
A23: ='Assurance tool'!D26 -> Desirable | C23: 1 | D23: ='Assurance tool'!E26 -> b
A24: ='Assurance tool'!D27 -> Required | B24: 2 | C24: 1 | D24: ='Assurance tool'!E27 -> c | E24: =IF('Evidence '!G22="YES",1,0) -> 0
A25: ='Assurance tool'!D28 -> Required | B25: 3 | C25: 1 | D25: ='Assurance tool'!E28 -> d | E25: =IF('Evidence '!G23="YES",1,0) -> 0 | F25: =SUM(E22:E25) -> 0 | G25: =F25/B25*100 -> 0
A26: ='Assurance tool'!D29 -> Required | B26: 1 | C26: 3 | D26: ='Assurance tool'!E29 -> a | E26: =IF('Evidence '!G24="YES",1,0) -> 0
A27: ='Assurance tool'!D30 -> Required | B27: 2 | C27: 3 | D27: ='Assurance tool'!E30 -> b | E27: =IF('Evidence '!G25="YES",1,0) -> 0
A28: ='Assurance tool'!D31 -> Desirable | C28: 3 | D28: ='Assurance tool'!E31 -> c
A29: ='Assurance tool'!D32 -> Desirable | C29: 3 | D29: ='Assurance tool'!E32 -> d
A30: ='Assurance tool'!D33 -> Desirable | B30: 2 | C30: 3 | D30: ='Assurance tool'!E33 -> e | F30: =SUM(E26:E30) -> 0 | G30: =F30/B30*100 -> 0
A31: ='Assurance tool'!D34 -> Desirable | B31: 0 | C31: 4 | D31: ='Assurance tool'!E34 -> a | H31: Not needed
A32: ='Assurance tool'!D35 -> Required | B32: 1 | C32: 5 | D32: ='Assurance tool'!E35 -> a | E32: =IF('Evidence '!G30="YES",1,0) -> 0
A33: ='Assurance tool'!D36 -> Required | B33: 2 | C33: 5 | D33: ='Assurance tool'!E36 -> b | E33: =IF('Evidence '!G31="YES",1,0) -> 0 | F33: =SUM(E32:E33) -> 0 | G33: =F33/B33*100 -> 0
A34: ='Assurance tool'!D37 -> Required | B34: 1 | C34: 6 | D34: ='Assurance tool'!E37 -> a | E34: =IF('Evidence '!G32="YES",1,0) -> 0
A35: ='Assurance tool'!D38 -> Required | B35: 2 | C35: 6 | D35: ='Assurance tool'!E38 -> b | E35: =IF('Evidence '!G33="YES",1,0) -> 0
A36: ='Assurance tool'!D39 -> Required | B36: 3 | C36: 6 | D36: ='Assurance tool'!E39 -> c | E36: =IF('Evidence '!G34="YES",1,0) -> 0
A37: ='Assurance tool'!D40 -> Required | B37: 4 | C37: 6 | D37: ='Assurance tool'!E40 -> d | E37: =IF('Evidence '!G35="YES",1,0) -> 0
A38: ='Assurance tool'!D41 -> Required | B38: 5 | C38: 6 | D38: ='Assurance tool'!E41 -> e | E38: =IF('Evidence '!G36="YES",1,0) -> 0 | F38: =SUM(E34:E38) -> 0 | G38: =F38/B38*100 -> 0
C39: CARING
A40: ='Assurance tool'!D44 -> Required | B40: 1 | C40: 2 | D40: ='Evidence '!E37 -> a | E40: =IF('Evidence '!G37="YES",1,0) -> 0
A41: ='Assurance tool'!D45 -> Desirable | B41: 1 | C41: 2 | D41: ='Evidence '!E38 -> b | F41: =SUM(E40:E41) -> 0 | G41: =E41/B41*100 -> 0
C42: RESPONSIVE
A43: ='Assurance tool'!D48 -> Required | B43: 1 | C43: 1 | D43: ='Evidence '!E39 -> a | E43: =IF('Evidence '!G41="YES",1,0) -> 0
A44: ='Assurance tool'!D49 -> Desirable | B44: 1 | C44: 1 | D44: ='Evidence '!E40 -> b | F44: =E43 -> 0 | G44: =F44/B44*100 -> 0
A45: ='Assurance tool'!D50 -> Desirable | C45: 2 | D45: ='Evidence '!E41 -> a
A46: ='Assurance tool'!D51 -> Desirable | B46: 0 | C46: 2 | D46: ='Evidence '!E42 -> b | H46: Not needed
C47: WELL LED
A48: ='Assurance tool'!D55 -> Required | B48: 1 | D48: ='Assurance tool'!E55 -> a | E48: =IF('Evidence '!G43="YES",1,0) -> 0
A49: ='Assurance tool'!D56 -> Required | B49: 2 | D49: ='Assurance tool'!E56 -> b | E49: =IF('Evidence '!G44="YES",1,0) -> 0
A50: ='Assurance tool'!D57 -> Desirable | D50: ='Assurance tool'!E57 -> c
A51: ='Assurance tool'!D58 -> Desirable | D51: ='Assurance tool'!E58 -> d
A52: ='Assurance tool'!D59 -> Required | B52: 3 | D52: ='Assurance tool'!E59 -> e | E52: =IF('Evidence '!G47="YES",1,0) -> 0
A53: ='Assurance tool'!D60 -> Required | B53: 4 | D53: ='Assurance tool'!E60 -> f | E53: =IF('Evidence '!G48="YES",1,0) -> 0 | F53: =SUM(E48:E53) -> 0 | G53: =F53/B53*100 -> 0
A54: ='Assurance tool'!D61 -> Required | B54: 1 | D54: ='Assurance tool'!E61 -> a | E54: =IF('Evidence '!G49="YES",1,0) -> 0
A55: ='Assurance tool'!D62 -> Required | B55: 2 | D55: ='Assurance tool'!E62 -> b | E55: =IF('Evidence '!G50="YES",1,0) -> 0
A56: ='Assurance tool'!D63 -> Required | B56: 3 | D56: ='Assurance tool'!E63 -> c | E56: =IF('Evidence '!G51="YES",1,0) -> 0
A57: ='Assurance tool'!D64 -> Required | B57: 4 | D57: ='Assurance tool'!E64 -> d | E57: =IF('Evidence '!G52="YES",1,0) -> 0 | F57: =SUM(E54:E57) -> 0 | G57: =F57/B57*100 -> 0
A60: TOTAL | B60: =B15+B20+B25+B30+B33+B38+B40+B43+B53+B57 -> 37 | F60: =F15+F20+F25+F30+F33+F38+F41+F44+F53+F57 -> 0 | G60: =F60/B60*100 -> 0
